BEGIN:VCALENDAR
VERSION:2.0
PRODID:-//Porin Rauhanyhdistys ry - ECPv6.15.20//NONSGML v1.0//EN
CALSCALE:GREGORIAN
METHOD:PUBLISH
X-WR-CALNAME:Porin Rauhanyhdistys ry
X-ORIGINAL-URL:https://www.porinrauhanyhdistys.fi
X-WR-CALDESC:Tapahtumat Porin Rauhanyhdistys ry
REFRESH-INTERVAL;VALUE=DURATION:PT1H
X-Robots-Tag:noindex
X-PUBLISHED-TTL:PT1H
BEGIN:VTIMEZONE
TZID:Europe/Helsinki
BEGIN:DAYLIGHT
TZOFFSETFROM:+0200
TZOFFSETTO:+0300
TZNAME:EEST
DTSTART:20250330T010000
END:DAYLIGHT
BEGIN:STANDARD
TZOFFSETFROM:+0300
TZOFFSETTO:+0200
TZNAME:EET
DTSTART:20251026T010000
END:STANDARD
BEGIN:DAYLIGHT
TZOFFSETFROM:+0200
TZOFFSETTO:+0300
TZNAME:EEST
DTSTART:20260329T010000
END:DAYLIGHT
BEGIN:STANDARD
TZOFFSETFROM:+0300
TZOFFSETTO:+0200
TZNAME:EET
DTSTART:20261025T010000
END:STANDARD
BEGIN:DAYLIGHT
TZOFFSETFROM:+0200
TZOFFSETTO:+0300
TZNAME:EEST
DTSTART:20270328T010000
END:DAYLIGHT
BEGIN:STANDARD
TZOFFSETFROM:+0300
TZOFFSETTO:+0200
TZNAME:EET
DTSTART:20271031T010000
END:STANDARD
END:VTIMEZONE
BEGIN:VEVENT
DTSTART;TZID=Europe/Helsinki:20261002T183000
DTEND;TZID=Europe/Helsinki:20261002T183000
DTSTAMP:20260420T221325
CREATED:20251201T155832Z
LAST-MODIFIED:20251201T155832Z
UID:3729-1790965800-1790965800@www.porinrauhanyhdistys.fi
SUMMARY:Raamattuluokat + iltakylä
DESCRIPTION:
URL:https://www.porinrauhanyhdistys.fi/event/raamattuluokat-iltakyla-18/
END:VEVENT
BEGIN:VEVENT
DTSTART;TZID=Europe/Helsinki:20261003T180000
DTEND;TZID=Europe/Helsinki:20261003T180000
DTSTAMP:20260420T221325
CREATED:20251201T155833Z
LAST-MODIFIED:20251201T155833Z
UID:3730-1791050400-1791050400@www.porinrauhanyhdistys.fi
SUMMARY:Miesten ilta
DESCRIPTION:
URL:https://www.porinrauhanyhdistys.fi/event/miesten-ilta-3/
END:VEVENT
BEGIN:VEVENT
DTSTART;TZID=Europe/Helsinki:20261003T190000
DTEND;TZID=Europe/Helsinki:20261003T190000
DTSTAMP:20260420T221325
CREATED:20251201T155833Z
LAST-MODIFIED:20251201T155833Z
UID:3731-1791054000-1791054000@www.porinrauhanyhdistys.fi
SUMMARY:Nuorten lauantai
DESCRIPTION:
URL:https://www.porinrauhanyhdistys.fi/event/nuorten-lauantai-33/
END:VEVENT
BEGIN:VEVENT
DTSTART;TZID=Europe/Helsinki:20261004T120000
DTEND;TZID=Europe/Helsinki:20261004T120000
DTSTAMP:20260420T221325
CREATED:20251201T155848Z
LAST-MODIFIED:20251201T155848Z
UID:3732-1791115200-1791115200@www.porinrauhanyhdistys.fi
SUMMARY:Perhekirkko\, Ruosniemi
DESCRIPTION:
URL:https://www.porinrauhanyhdistys.fi/event/perhekirkko-ruosniemi-2/
END:VEVENT
BEGIN:VEVENT
DTSTART;TZID=Europe/Helsinki:20261004T130000
DTEND;TZID=Europe/Helsinki:20261004T130000
DTSTAMP:20260420T221325
CREATED:20251201T155848Z
LAST-MODIFIED:20251201T155848Z
UID:3733-1791118800-1791118800@www.porinrauhanyhdistys.fi
SUMMARY:Ruokailu ry:llä
DESCRIPTION:
URL:https://www.porinrauhanyhdistys.fi/event/ruokailu-rylla-4/
END:VEVENT
BEGIN:VEVENT
DTSTART;TZID=Europe/Helsinki:20261004T140000
DTEND;TZID=Europe/Helsinki:20261004T140000
DTSTAMP:20260420T221325
CREATED:20251201T155848Z
LAST-MODIFIED:20251201T155848Z
UID:3734-1791122400-1791122400@www.porinrauhanyhdistys.fi
SUMMARY:Seurapuhe\, kolehti lähetystyölle
DESCRIPTION:
URL:https://www.porinrauhanyhdistys.fi/event/seurapuhe-kolehti-lahetystyolle-2/
END:VEVENT
BEGIN:VEVENT
DTSTART;TZID=Europe/Helsinki:20261006T173000
DTEND;TZID=Europe/Helsinki:20261006T173000
DTSTAMP:20260420T221325
CREATED:20251201T155849Z
LAST-MODIFIED:20251201T155849Z
UID:3735-1791307800-1791307800@www.porinrauhanyhdistys.fi
SUMMARY:Kaverikerho
DESCRIPTION:
URL:https://www.porinrauhanyhdistys.fi/event/kaverikerho-18/
END:VEVENT
BEGIN:VEVENT
DTSTART;TZID=Europe/Helsinki:20261007T183000
DTEND;TZID=Europe/Helsinki:20261007T183000
DTSTAMP:20260420T221325
CREATED:20251201T155849Z
LAST-MODIFIED:20251201T155849Z
UID:3736-1791397800-1791397800@www.porinrauhanyhdistys.fi
SUMMARY:Ompeluseurat kodeissa
DESCRIPTION:
URL:https://www.porinrauhanyhdistys.fi/event/ompeluseurat-kodeissa-11/
END:VEVENT
BEGIN:VEVENT
DTSTART;TZID=Europe/Helsinki:20261009T183000
DTEND;TZID=Europe/Helsinki:20261009T183000
DTSTAMP:20260420T221325
CREATED:20251201T155904Z
LAST-MODIFIED:20251201T155904Z
UID:3737-1791570600-1791570600@www.porinrauhanyhdistys.fi
SUMMARY:Raamattuluokat
DESCRIPTION:
URL:https://www.porinrauhanyhdistys.fi/event/raamattuluokat-25/
END:VEVENT
BEGIN:VEVENT
DTSTART;VALUE=DATE:20261010
DTEND;VALUE=DATE:20261012
DTSTAMP:20260420T221325
CREATED:20251201T155905Z
LAST-MODIFIED:20251201T160549Z
UID:3740-1791590400-1791763199@www.porinrauhanyhdistys.fi
SUMMARY:Syysseurat Turussa\, seurat ja seurakuntapäivä Merikarvialla 10.-11.10.
DESCRIPTION:
URL:https://www.porinrauhanyhdistys.fi/event/syysseurat-turussa-seurat-ja-seurakuntapaiva-merikarvialla-10-11-10/
END:VEVENT
BEGIN:VEVENT
DTSTART;TZID=Europe/Helsinki:20261010T170000
DTEND;TZID=Europe/Helsinki:20261010T170000
DTSTAMP:20260420T221325
CREATED:20251201T155904Z
LAST-MODIFIED:20251201T155904Z
UID:3738-1791651600-1791651600@www.porinrauhanyhdistys.fi
SUMMARY:Megamyyjäiset
DESCRIPTION:
URL:https://www.porinrauhanyhdistys.fi/event/megamyyjaiset-2/
END:VEVENT
BEGIN:VEVENT
DTSTART;TZID=Europe/Helsinki:20261011T160000
DTEND;TZID=Europe/Helsinki:20261011T160000
DTSTAMP:20260420T221325
CREATED:20251201T155905Z
LAST-MODIFIED:20251201T155905Z
UID:3739-1791734400-1791734400@www.porinrauhanyhdistys.fi
SUMMARY:Seurat\, (myös striimaus)
DESCRIPTION:
URL:https://www.porinrauhanyhdistys.fi/event/seurat-myos-striimaus-9/
END:VEVENT
BEGIN:VEVENT
DTSTART;TZID=Europe/Helsinki:20261013T130000
DTEND;TZID=Europe/Helsinki:20261013T130000
DTSTAMP:20260420T221325
CREATED:20251201T155905Z
LAST-MODIFIED:20251201T155905Z
UID:3741-1791896400-1791896400@www.porinrauhanyhdistys.fi
SUMMARY:Tiistaikerho
DESCRIPTION:
URL:https://www.porinrauhanyhdistys.fi/event/tiistaikerho-16/
END:VEVENT
BEGIN:VEVENT
DTSTART;TZID=Europe/Helsinki:20261013T173000
DTEND;TZID=Europe/Helsinki:20261013T173000
DTSTAMP:20260420T221325
CREATED:20251201T160004Z
LAST-MODIFIED:20251201T160004Z
UID:3742-1791912600-1791912600@www.porinrauhanyhdistys.fi
SUMMARY:Päiväkerhot
DESCRIPTION:
URL:https://www.porinrauhanyhdistys.fi/event/paivakerhot-32/
END:VEVENT
BEGIN:VEVENT
DTSTART;TZID=Europe/Helsinki:20261014T183000
DTEND;TZID=Europe/Helsinki:20261014T183000
DTSTAMP:20260420T221325
CREATED:20251201T160004Z
LAST-MODIFIED:20251201T160004Z
UID:3743-1792002600-1792002600@www.porinrauhanyhdistys.fi
SUMMARY:Ompeluseurat
DESCRIPTION:
URL:https://www.porinrauhanyhdistys.fi/event/ompeluseurat-52/
END:VEVENT
BEGIN:VEVENT
DTSTART;TZID=Europe/Helsinki:20261015T183000
DTEND;TZID=Europe/Helsinki:20261015T183000
DTSTAMP:20260420T221325
CREATED:20251201T160004Z
LAST-MODIFIED:20251201T160004Z
UID:3744-1792089000-1792089000@www.porinrauhanyhdistys.fi
SUMMARY:Naisten ilta
DESCRIPTION:
URL:https://www.porinrauhanyhdistys.fi/event/naisten-ilta-13/
END:VEVENT
BEGIN:VEVENT
DTSTART;TZID=Europe/Helsinki:20261016T183000
DTEND;TZID=Europe/Helsinki:20261016T183000
DTSTAMP:20260420T221325
CREATED:20251201T160005Z
LAST-MODIFIED:20251201T160005Z
UID:3745-1792175400-1792175400@www.porinrauhanyhdistys.fi
SUMMARY:Raamattuluokat + iltakylä
DESCRIPTION:
URL:https://www.porinrauhanyhdistys.fi/event/raamattuluokat-iltakyla-19/
END:VEVENT
BEGIN:VEVENT
DTSTART;TZID=Europe/Helsinki:20261018T160000
DTEND;TZID=Europe/Helsinki:20261018T160000
DTSTAMP:20260420T221325
CREATED:20251201T160005Z
LAST-MODIFIED:20251201T160005Z
UID:3746-1792339200-1792339200@www.porinrauhanyhdistys.fi
SUMMARY:Seurat\, vierailevat puhujat
DESCRIPTION:
URL:https://www.porinrauhanyhdistys.fi/event/seurat-vierailevat-puhujat-9/
END:VEVENT
BEGIN:VEVENT
DTSTART;TZID=Europe/Helsinki:20261021T183000
DTEND;TZID=Europe/Helsinki:20261021T183000
DTSTAMP:20260420T221326
CREATED:20251201T160019Z
LAST-MODIFIED:20251201T160019Z
UID:3748-1792607400-1792607400@www.porinrauhanyhdistys.fi
SUMMARY:Ompeluseurat
DESCRIPTION:
URL:https://www.porinrauhanyhdistys.fi/event/ompeluseurat-53/
END:VEVENT
BEGIN:VEVENT
DTSTART;TZID=Europe/Helsinki:20261024T190000
DTEND;TZID=Europe/Helsinki:20261024T190000
DTSTAMP:20260420T221326
CREATED:20251201T160020Z
LAST-MODIFIED:20251201T160020Z
UID:3749-1792868400-1792868400@www.porinrauhanyhdistys.fi
SUMMARY:Nuorten lauantai
DESCRIPTION:
URL:https://www.porinrauhanyhdistys.fi/event/nuorten-lauantai-34/
END:VEVENT
BEGIN:VEVENT
DTSTART;TZID=Europe/Helsinki:20261025T160000
DTEND;TZID=Europe/Helsinki:20261025T160000
DTSTAMP:20260420T221326
CREATED:20251201T160020Z
LAST-MODIFIED:20251201T160020Z
UID:3750-1792944000-1792944000@www.porinrauhanyhdistys.fi
SUMMARY:Seurat
DESCRIPTION:
URL:https://www.porinrauhanyhdistys.fi/event/seurat-41/
END:VEVENT
BEGIN:VEVENT
DTSTART;TZID=Europe/Helsinki:20261027T173000
DTEND;TZID=Europe/Helsinki:20261027T173000
DTSTAMP:20260420T221326
CREATED:20251201T160020Z
LAST-MODIFIED:20251201T160020Z
UID:3751-1793122200-1793122200@www.porinrauhanyhdistys.fi
SUMMARY:Kaverikerho
DESCRIPTION:
URL:https://www.porinrauhanyhdistys.fi/event/kaverikerho-19/
END:VEVENT
BEGIN:VEVENT
DTSTART;TZID=Europe/Helsinki:20261028T183000
DTEND;TZID=Europe/Helsinki:20261028T183000
DTSTAMP:20260420T221326
CREATED:20251201T160035Z
LAST-MODIFIED:20251201T160035Z
UID:3752-1793212200-1793212200@www.porinrauhanyhdistys.fi
SUMMARY:Ompeluseurat
DESCRIPTION:
URL:https://www.porinrauhanyhdistys.fi/event/ompeluseurat-54/
END:VEVENT
BEGIN:VEVENT
DTSTART;TZID=Europe/Helsinki:20261031T140000
DTEND;TZID=Europe/Helsinki:20261031T140000
DTSTAMP:20260420T221326
CREATED:20251201T160035Z
LAST-MODIFIED:20251201T160035Z
UID:3753-1793455200-1793455200@www.porinrauhanyhdistys.fi
SUMMARY:Pyhäinpäiväseurat
DESCRIPTION:
URL:https://www.porinrauhanyhdistys.fi/event/pyhainpaivaseurat-3/
END:VEVENT
END:VCALENDAR