BEGIN:VCALENDAR
VERSION:2.0
PRODID:-//Porin Rauhanyhdistys ry - ECPv6.15.20//NONSGML v1.0//EN
CALSCALE:GREGORIAN
METHOD:PUBLISH
X-ORIGINAL-URL:https://www.porinrauhanyhdistys.fi
X-WR-CALDESC:Tapahtumat Porin Rauhanyhdistys ry
REFRESH-INTERVAL;VALUE=DURATION:PT1H
X-Robots-Tag:noindex
X-PUBLISHED-TTL:PT1H
BEGIN:VTIMEZONE
TZID:Europe/Helsinki
BEGIN:DAYLIGHT
TZOFFSETFROM:+0200
TZOFFSETTO:+0300
TZNAME:EEST
DTSTART:20250330T010000
END:DAYLIGHT
BEGIN:STANDARD
TZOFFSETFROM:+0300
TZOFFSETTO:+0200
TZNAME:EET
DTSTART:20251026T010000
END:STANDARD
BEGIN:DAYLIGHT
TZOFFSETFROM:+0200
TZOFFSETTO:+0300
TZNAME:EEST
DTSTART:20260329T010000
END:DAYLIGHT
BEGIN:STANDARD
TZOFFSETFROM:+0300
TZOFFSETTO:+0200
TZNAME:EET
DTSTART:20261025T010000
END:STANDARD
BEGIN:DAYLIGHT
TZOFFSETFROM:+0200
TZOFFSETTO:+0300
TZNAME:EEST
DTSTART:20270328T010000
END:DAYLIGHT
BEGIN:STANDARD
TZOFFSETFROM:+0300
TZOFFSETTO:+0200
TZNAME:EET
DTSTART:20271031T010000
END:STANDARD
END:VTIMEZONE
BEGIN:VEVENT
DTSTART;TZID=Europe/Helsinki:20260901T173000
DTEND;TZID=Europe/Helsinki:20260901T173000
DTSTAMP:20260420T200551
CREATED:20251201T155539Z
LAST-MODIFIED:20251201T155539Z
UID:3701-1788283800-1788283800@www.porinrauhanyhdistys.fi
SUMMARY:Päiväkerhot
DESCRIPTION:
URL:https://www.porinrauhanyhdistys.fi/event/paivakerhot-29/
END:VEVENT
BEGIN:VEVENT
DTSTART;TZID=Europe/Helsinki:20260902T183000
DTEND;TZID=Europe/Helsinki:20260902T183000
DTSTAMP:20260420T200551
CREATED:20251201T155626Z
LAST-MODIFIED:20251201T155626Z
UID:3702-1788373800-1788373800@www.porinrauhanyhdistys.fi
SUMMARY:Ompeluseurat kodeissa
DESCRIPTION:
URL:https://www.porinrauhanyhdistys.fi/event/ompeluseurat-kodeissa-10/
END:VEVENT
BEGIN:VEVENT
DTSTART;TZID=Europe/Helsinki:20260903T183000
DTEND;TZID=Europe/Helsinki:20260903T183000
DTSTAMP:20260420T200551
CREATED:20251201T155626Z
LAST-MODIFIED:20251201T155626Z
UID:3703-1788460200-1788460200@www.porinrauhanyhdistys.fi
SUMMARY:Naisten ilta
DESCRIPTION:
URL:https://www.porinrauhanyhdistys.fi/event/naisten-ilta-12/
END:VEVENT
BEGIN:VEVENT
DTSTART;TZID=Europe/Helsinki:20260904T183000
DTEND;TZID=Europe/Helsinki:20260904T183000
DTSTAMP:20260420T200551
CREATED:20251201T155626Z
LAST-MODIFIED:20251201T155626Z
UID:3704-1788546600-1788546600@www.porinrauhanyhdistys.fi
SUMMARY:Raamattuluokat
DESCRIPTION:
URL:https://www.porinrauhanyhdistys.fi/event/raamattuluokat-23/
END:VEVENT
BEGIN:VEVENT
DTSTART;TZID=Europe/Helsinki:20260905T190000
DTEND;TZID=Europe/Helsinki:20260905T190000
DTSTAMP:20260420T200551
CREATED:20251201T155626Z
LAST-MODIFIED:20251201T155626Z
UID:3705-1788634800-1788634800@www.porinrauhanyhdistys.fi
SUMMARY:Nuorten lauantai
DESCRIPTION:
URL:https://www.porinrauhanyhdistys.fi/event/nuorten-lauantai-30/
END:VEVENT
BEGIN:VEVENT
DTSTART;VALUE=DATE:20260906
DTEND;VALUE=DATE:20260907
DTSTAMP:20260420T200551
CREATED:20251201T155641Z
LAST-MODIFIED:20251201T160454Z
UID:3707-1788652800-1788739199@www.porinrauhanyhdistys.fi
SUMMARY:Syysseurat Parkanossa 6.9.
DESCRIPTION:
URL:https://www.porinrauhanyhdistys.fi/event/syysseurat-parkanossa-6-9/
END:VEVENT
BEGIN:VEVENT
DTSTART;TZID=Europe/Helsinki:20260906T140000
DTEND;TZID=Europe/Helsinki:20260906T140000
DTSTAMP:20260420T200551
CREATED:20251201T155626Z
LAST-MODIFIED:20251201T155626Z
UID:3706-1788703200-1788703200@www.porinrauhanyhdistys.fi
SUMMARY:Pyhäkoulu ja seurapuhe
DESCRIPTION:
URL:https://www.porinrauhanyhdistys.fi/event/pyhakoulu-ja-seurapuhe-5/
END:VEVENT
BEGIN:VEVENT
DTSTART;TZID=Europe/Helsinki:20260908T130000
DTEND;TZID=Europe/Helsinki:20260908T130000
DTSTAMP:20260420T200551
CREATED:20251201T155641Z
LAST-MODIFIED:20251201T155641Z
UID:3708-1788872400-1788872400@www.porinrauhanyhdistys.fi
SUMMARY:Tiistaikerho
DESCRIPTION:
URL:https://www.porinrauhanyhdistys.fi/event/tiistaikerho-15/
END:VEVENT
BEGIN:VEVENT
DTSTART;TZID=Europe/Helsinki:20260908T173000
DTEND;TZID=Europe/Helsinki:20260908T173000
DTSTAMP:20260420T200551
CREATED:20251201T155641Z
LAST-MODIFIED:20251201T155641Z
UID:3709-1788888600-1788888600@www.porinrauhanyhdistys.fi
SUMMARY:Kaverikerho
DESCRIPTION:
URL:https://www.porinrauhanyhdistys.fi/event/kaverikerho-16/
END:VEVENT
BEGIN:VEVENT
DTSTART;TZID=Europe/Helsinki:20260909T183000
DTEND;TZID=Europe/Helsinki:20260909T183000
DTSTAMP:20260420T200551
CREATED:20251201T155642Z
LAST-MODIFIED:20251201T155642Z
UID:3710-1788978600-1788978600@www.porinrauhanyhdistys.fi
SUMMARY:Ompeluseurat
DESCRIPTION:
URL:https://www.porinrauhanyhdistys.fi/event/ompeluseurat-48/
END:VEVENT
BEGIN:VEVENT
DTSTART;TZID=Europe/Helsinki:20260911T183000
DTEND;TZID=Europe/Helsinki:20260911T183000
DTSTAMP:20260420T200551
CREATED:20251201T155642Z
LAST-MODIFIED:20251201T155642Z
UID:3711-1789151400-1789151400@www.porinrauhanyhdistys.fi
SUMMARY:Raamattuluokat + iltakylä
DESCRIPTION:
URL:https://www.porinrauhanyhdistys.fi/event/raamattuluokat-iltakyla-17/
END:VEVENT
BEGIN:VEVENT
DTSTART;TZID=Europe/Helsinki:20260912T190000
DTEND;TZID=Europe/Helsinki:20260912T190000
DTSTAMP:20260420T200551
CREATED:20251201T155709Z
LAST-MODIFIED:20251201T155709Z
UID:3712-1789239600-1789239600@www.porinrauhanyhdistys.fi
SUMMARY:Nuorten lauantai
DESCRIPTION:
URL:https://www.porinrauhanyhdistys.fi/event/nuorten-lauantai-31/
END:VEVENT
BEGIN:VEVENT
DTSTART;VALUE=DATE:20260913
DTEND;VALUE=DATE:20260914
DTSTAMP:20260420T200551
CREATED:20251201T155710Z
LAST-MODIFIED:20251201T155710Z
UID:3713-1789257600-1789343999@www.porinrauhanyhdistys.fi
SUMMARY:Pyhäkoulut kodeissa
DESCRIPTION:
URL:https://www.porinrauhanyhdistys.fi/event/pyhakoulut-kodeissa-20/
END:VEVENT
BEGIN:VEVENT
DTSTART;VALUE=DATE:20260913
DTEND;VALUE=DATE:20260914
DTSTAMP:20260420T200551
CREATED:20251201T155710Z
LAST-MODIFIED:20251201T155710Z
UID:3715-1789257600-1789343999@www.porinrauhanyhdistys.fi
SUMMARY:Syysseurat Raumalla 13.9.
DESCRIPTION:
URL:https://www.porinrauhanyhdistys.fi/event/syysseurat-raumalla-13-9/
END:VEVENT
BEGIN:VEVENT
DTSTART;TZID=Europe/Helsinki:20260913T160000
DTEND;TZID=Europe/Helsinki:20260913T160000
DTSTAMP:20260420T200551
CREATED:20251201T155710Z
LAST-MODIFIED:20251201T155710Z
UID:3714-1789315200-1789315200@www.porinrauhanyhdistys.fi
SUMMARY:Seurat (myös striimaus)
DESCRIPTION:
URL:https://www.porinrauhanyhdistys.fi/event/seurat-myos-striimaus-8/
END:VEVENT
BEGIN:VEVENT
DTSTART;TZID=Europe/Helsinki:20260915T173000
DTEND;TZID=Europe/Helsinki:20260915T173000
DTSTAMP:20260420T200551
CREATED:20251201T155710Z
LAST-MODIFIED:20251201T155710Z
UID:3716-1789493400-1789493400@www.porinrauhanyhdistys.fi
SUMMARY:Päiväkerhot
DESCRIPTION:
URL:https://www.porinrauhanyhdistys.fi/event/paivakerhot-30/
END:VEVENT
BEGIN:VEVENT
DTSTART;TZID=Europe/Helsinki:20260916T183000
DTEND;TZID=Europe/Helsinki:20260916T183000
DTSTAMP:20260420T200551
CREATED:20251201T155725Z
LAST-MODIFIED:20251201T155725Z
UID:3717-1789583400-1789583400@www.porinrauhanyhdistys.fi
SUMMARY:Ompeluseurat
DESCRIPTION:
URL:https://www.porinrauhanyhdistys.fi/event/ompeluseurat-49/
END:VEVENT
BEGIN:VEVENT
DTSTART;TZID=Europe/Helsinki:20260918T183000
DTEND;TZID=Europe/Helsinki:20260918T183000
DTSTAMP:20260420T200551
CREATED:20251201T155725Z
LAST-MODIFIED:20251201T155725Z
UID:3718-1789756200-1789756200@www.porinrauhanyhdistys.fi
SUMMARY:Raamattuluokat
DESCRIPTION:
URL:https://www.porinrauhanyhdistys.fi/event/raamattuluokat-24/
END:VEVENT
BEGIN:VEVENT
DTSTART;TZID=Europe/Helsinki:20260919T190000
DTEND;TZID=Europe/Helsinki:20260919T190000
DTSTAMP:20260420T200551
CREATED:20251201T155725Z
LAST-MODIFIED:20251201T155725Z
UID:3719-1789844400-1789844400@www.porinrauhanyhdistys.fi
SUMMARY:Nuorten lauantai
DESCRIPTION:
URL:https://www.porinrauhanyhdistys.fi/event/nuorten-lauantai-32/
END:VEVENT
BEGIN:VEVENT
DTSTART;VALUE=DATE:20260920
DTEND;VALUE=DATE:20260921
DTSTAMP:20260420T200551
CREATED:20251201T155726Z
LAST-MODIFIED:20251201T155726Z
UID:3720-1789862400-1789948799@www.porinrauhanyhdistys.fi
SUMMARY:Pyhäkoulut kodeissa
DESCRIPTION:
URL:https://www.porinrauhanyhdistys.fi/event/pyhakoulut-kodeissa-21/
END:VEVENT
BEGIN:VEVENT
DTSTART;VALUE=DATE:20260920
DTEND;VALUE=DATE:20260921
DTSTAMP:20260420T200551
CREATED:20251201T155817Z
LAST-MODIFIED:20251201T160514Z
UID:3722-1789862400-1789948799@www.porinrauhanyhdistys.fi
SUMMARY:Seurakuntapäivä Turussa 20.9.
DESCRIPTION:
URL:https://www.porinrauhanyhdistys.fi/event/seurakuntapaiva-turussa-20-9/
END:VEVENT
BEGIN:VEVENT
DTSTART;TZID=Europe/Helsinki:20260920T160000
DTEND;TZID=Europe/Helsinki:20260920T160000
DTSTAMP:20260420T200551
CREATED:20251201T155726Z
LAST-MODIFIED:20251201T155726Z
UID:3721-1789920000-1789920000@www.porinrauhanyhdistys.fi
SUMMARY:Seurat
DESCRIPTION:
URL:https://www.porinrauhanyhdistys.fi/event/seurat-40/
END:VEVENT
BEGIN:VEVENT
DTSTART;TZID=Europe/Helsinki:20260922T173000
DTEND;TZID=Europe/Helsinki:20260922T173000
DTSTAMP:20260420T200551
CREATED:20251201T155817Z
LAST-MODIFIED:20251201T155817Z
UID:3723-1790098200-1790098200@www.porinrauhanyhdistys.fi
SUMMARY:Kaverikerho
DESCRIPTION:
URL:https://www.porinrauhanyhdistys.fi/event/kaverikerho-17/
END:VEVENT
BEGIN:VEVENT
DTSTART;TZID=Europe/Helsinki:20260923T183000
DTEND;TZID=Europe/Helsinki:20260923T183000
DTSTAMP:20260420T200551
CREATED:20251201T155817Z
LAST-MODIFIED:20251201T155817Z
UID:3724-1790188200-1790188200@www.porinrauhanyhdistys.fi
SUMMARY:Ompeluseurat
DESCRIPTION:
URL:https://www.porinrauhanyhdistys.fi/event/ompeluseurat-50/
END:VEVENT
BEGIN:VEVENT
DTSTART;TZID=Europe/Helsinki:20260926T150000
DTEND;TZID=Europe/Helsinki:20260926T150000
DTSTAMP:20260420T200551
CREATED:20251201T155817Z
LAST-MODIFIED:20251201T155817Z
UID:3725-1790434800-1790434800@www.porinrauhanyhdistys.fi
SUMMARY:Syysseurat
DESCRIPTION:
URL:https://www.porinrauhanyhdistys.fi/event/syysseurat-3/
END:VEVENT
BEGIN:VEVENT
DTSTART;TZID=Europe/Helsinki:20260927T130000
DTEND;TZID=Europe/Helsinki:20260927T130000
DTSTAMP:20260420T200551
CREATED:20251201T155818Z
LAST-MODIFIED:20251201T155818Z
UID:3726-1790514000-1790514000@www.porinrauhanyhdistys.fi
SUMMARY:Syysseurat
DESCRIPTION:
URL:https://www.porinrauhanyhdistys.fi/event/syysseurat-4/
END:VEVENT
BEGIN:VEVENT
DTSTART;TZID=Europe/Helsinki:20260929T173000
DTEND;TZID=Europe/Helsinki:20260929T173000
DTSTAMP:20260420T200551
CREATED:20251201T155832Z
LAST-MODIFIED:20251201T155832Z
UID:3727-1790703000-1790703000@www.porinrauhanyhdistys.fi
SUMMARY:Päiväkerhot
DESCRIPTION:
URL:https://www.porinrauhanyhdistys.fi/event/paivakerhot-31/
END:VEVENT
BEGIN:VEVENT
DTSTART;TZID=Europe/Helsinki:20260930T183000
DTEND;TZID=Europe/Helsinki:20260930T183000
DTSTAMP:20260420T200551
CREATED:20251201T155832Z
LAST-MODIFIED:20251201T155832Z
UID:3728-1790793000-1790793000@www.porinrauhanyhdistys.fi
SUMMARY:Ompeluseurat
DESCRIPTION:
URL:https://www.porinrauhanyhdistys.fi/event/ompeluseurat-51/
END:VEVENT
END:VCALENDAR