BEGIN:VCALENDAR
VERSION:2.0
PRODID:-//Porin Rauhanyhdistys ry - ECPv6.15.20//NONSGML v1.0//EN
CALSCALE:GREGORIAN
METHOD:PUBLISH
X-ORIGINAL-URL:https://www.porinrauhanyhdistys.fi
X-WR-CALDESC:Tapahtumat Porin Rauhanyhdistys ry
REFRESH-INTERVAL;VALUE=DURATION:PT1H
X-Robots-Tag:noindex
X-PUBLISHED-TTL:PT1H
BEGIN:VTIMEZONE
TZID:Europe/Helsinki
BEGIN:DAYLIGHT
TZOFFSETFROM:+0200
TZOFFSETTO:+0300
TZNAME:EEST
DTSTART:20250330T010000
END:DAYLIGHT
BEGIN:STANDARD
TZOFFSETFROM:+0300
TZOFFSETTO:+0200
TZNAME:EET
DTSTART:20251026T010000
END:STANDARD
BEGIN:DAYLIGHT
TZOFFSETFROM:+0200
TZOFFSETTO:+0300
TZNAME:EEST
DTSTART:20260329T010000
END:DAYLIGHT
BEGIN:STANDARD
TZOFFSETFROM:+0300
TZOFFSETTO:+0200
TZNAME:EET
DTSTART:20261025T010000
END:STANDARD
BEGIN:DAYLIGHT
TZOFFSETFROM:+0200
TZOFFSETTO:+0300
TZNAME:EEST
DTSTART:20270328T010000
END:DAYLIGHT
BEGIN:STANDARD
TZOFFSETFROM:+0300
TZOFFSETTO:+0200
TZNAME:EET
DTSTART:20271031T010000
END:STANDARD
END:VTIMEZONE
BEGIN:VEVENT
DTSTART;TZID=Europe/Helsinki:20260802T140000
DTEND;TZID=Europe/Helsinki:20260802T140000
DTSTAMP:20260420T180728
CREATED:20251201T155218Z
LAST-MODIFIED:20251201T155218Z
UID:3684-1785679200-1785679200@www.porinrauhanyhdistys.fi
SUMMARY:Seurat
DESCRIPTION:
URL:https://www.porinrauhanyhdistys.fi/event/seurat-38/
END:VEVENT
BEGIN:VEVENT
DTSTART;TZID=Europe/Helsinki:20260809T160000
DTEND;TZID=Europe/Helsinki:20260809T160000
DTSTAMP:20260420T180728
CREATED:20251201T155418Z
LAST-MODIFIED:20251201T155418Z
UID:3687-1786291200-1786291200@www.porinrauhanyhdistys.fi
SUMMARY:Seurat\, vierailevat puhujat (myös striimaus)
DESCRIPTION:
URL:https://www.porinrauhanyhdistys.fi/event/seurat-vierailevat-puhujat-myos-striimaus-5/
END:VEVENT
BEGIN:VEVENT
DTSTART;TZID=Europe/Helsinki:20260812T183000
DTEND;TZID=Europe/Helsinki:20260812T183000
DTSTAMP:20260420T180728
CREATED:20251201T155418Z
LAST-MODIFIED:20251201T155418Z
UID:3688-1786559400-1786559400@www.porinrauhanyhdistys.fi
SUMMARY:Ompeluseurat
DESCRIPTION:
URL:https://www.porinrauhanyhdistys.fi/event/ompeluseurat-45/
END:VEVENT
BEGIN:VEVENT
DTSTART;VALUE=DATE:20260815
DTEND;VALUE=DATE:20260817
DTSTAMP:20260420T180728
CREATED:20251201T155419Z
LAST-MODIFIED:20251201T160424Z
UID:3691-1786752000-1786924799@www.porinrauhanyhdistys.fi
SUMMARY:Kesäseurat Merikarvialla ja Turussa 15.-16.8.
DESCRIPTION:
URL:https://www.porinrauhanyhdistys.fi/event/kesaseurat-merikarvialla-ja-turussa-15-16-8/
END:VEVENT
BEGIN:VEVENT
DTSTART;TZID=Europe/Helsinki:20260815T190000
DTEND;TZID=Europe/Helsinki:20260815T190000
DTSTAMP:20260420T180728
CREATED:20251201T155419Z
LAST-MODIFIED:20251201T155419Z
UID:3689-1786820400-1786820400@www.porinrauhanyhdistys.fi
SUMMARY:Nuorten lauantai
DESCRIPTION:
URL:https://www.porinrauhanyhdistys.fi/event/nuorten-lauantai-28/
END:VEVENT
BEGIN:VEVENT
DTSTART;TZID=Europe/Helsinki:20260816T160000
DTEND;TZID=Europe/Helsinki:20260816T160000
DTSTAMP:20260420T180728
CREATED:20251201T155419Z
LAST-MODIFIED:20251201T155419Z
UID:3690-1786896000-1786896000@www.porinrauhanyhdistys.fi
SUMMARY:Seurat\, syystoimintakauden avaus
DESCRIPTION:
URL:https://www.porinrauhanyhdistys.fi/event/seurat-syystoimintakauden-avaus-2/
END:VEVENT
BEGIN:VEVENT
DTSTART;TZID=Europe/Helsinki:20260819T183000
DTEND;TZID=Europe/Helsinki:20260819T183000
DTSTAMP:20260420T180728
CREATED:20251201T155523Z
LAST-MODIFIED:20251201T155523Z
UID:3692-1787164200-1787164200@www.porinrauhanyhdistys.fi
SUMMARY:Ompeluseurat
DESCRIPTION:
URL:https://www.porinrauhanyhdistys.fi/event/ompeluseurat-46/
END:VEVENT
BEGIN:VEVENT
DTSTART;TZID=Europe/Helsinki:20260821T183000
DTEND;TZID=Europe/Helsinki:20260821T183000
DTSTAMP:20260420T180728
CREATED:20251201T155523Z
LAST-MODIFIED:20251201T155523Z
UID:3693-1787337000-1787337000@www.porinrauhanyhdistys.fi
SUMMARY:Raamattuluokat
DESCRIPTION:
URL:https://www.porinrauhanyhdistys.fi/event/raamattuluokat-22/
END:VEVENT
BEGIN:VEVENT
DTSTART;TZID=Europe/Helsinki:20260822T190000
DTEND;TZID=Europe/Helsinki:20260822T190000
DTSTAMP:20260420T180728
CREATED:20251201T155523Z
LAST-MODIFIED:20251201T155523Z
UID:3694-1787425200-1787425200@www.porinrauhanyhdistys.fi
SUMMARY:Nuorten lauantai
DESCRIPTION:
URL:https://www.porinrauhanyhdistys.fi/event/nuorten-lauantai-29/
END:VEVENT
BEGIN:VEVENT
DTSTART;VALUE=DATE:20260823
DTEND;VALUE=DATE:20260824
DTSTAMP:20260420T180728
CREATED:20251201T155523Z
LAST-MODIFIED:20251201T155523Z
UID:3695-1787443200-1787529599@www.porinrauhanyhdistys.fi
SUMMARY:Pyhäkoulut kodeissa
DESCRIPTION:
URL:https://www.porinrauhanyhdistys.fi/event/pyhakoulut-kodeissa-19/
END:VEVENT
BEGIN:VEVENT
DTSTART;TZID=Europe/Helsinki:20260823T160000
DTEND;TZID=Europe/Helsinki:20260823T160000
DTSTAMP:20260420T180728
CREATED:20251201T155523Z
LAST-MODIFIED:20251201T155523Z
UID:3696-1787500800-1787500800@www.porinrauhanyhdistys.fi
SUMMARY:Seurat
DESCRIPTION:
URL:https://www.porinrauhanyhdistys.fi/event/seurat-39/
END:VEVENT
BEGIN:VEVENT
DTSTART;TZID=Europe/Helsinki:20260826T183000
DTEND;TZID=Europe/Helsinki:20260826T183000
DTSTAMP:20260420T180728
CREATED:20251201T155538Z
LAST-MODIFIED:20251201T155538Z
UID:3697-1787769000-1787769000@www.porinrauhanyhdistys.fi
SUMMARY:Ompeluseurat
DESCRIPTION:
URL:https://www.porinrauhanyhdistys.fi/event/ompeluseurat-47/
END:VEVENT
BEGIN:VEVENT
DTSTART;TZID=Europe/Helsinki:20260827T180000
DTEND;TZID=Europe/Helsinki:20260827T200000
DTSTAMP:20260420T180728
CREATED:20260114T185744Z
LAST-MODIFIED:20260114T185744Z
UID:3814-1787853600-1787860800@www.porinrauhanyhdistys.fi
SUMMARY:Lapsi- ja nuorisotyön koulutus
DESCRIPTION:
URL:https://www.porinrauhanyhdistys.fi/event/lapsi-ja-nuorisotyon-koulutus-2/
END:VEVENT
BEGIN:VEVENT
DTSTART;TZID=Europe/Helsinki:20260828T183000
DTEND;TZID=Europe/Helsinki:20260828T183000
DTSTAMP:20260420T180728
CREATED:20251201T155538Z
LAST-MODIFIED:20251201T155538Z
UID:3698-1787941800-1787941800@www.porinrauhanyhdistys.fi
SUMMARY:Raamattuluokat + iltakylä
DESCRIPTION:
URL:https://www.porinrauhanyhdistys.fi/event/raamattuluokat-iltakyla-16/
END:VEVENT
BEGIN:VEVENT
DTSTART;TZID=Europe/Helsinki:20260829T130000
DTEND;TZID=Europe/Helsinki:20260829T130000
DTSTAMP:20260420T180728
CREATED:20251201T155539Z
LAST-MODIFIED:20251201T155539Z
UID:3699-1788008400-1788008400@www.porinrauhanyhdistys.fi
SUMMARY:Aviopuolisoiden virkistyspäivä
DESCRIPTION:
URL:https://www.porinrauhanyhdistys.fi/event/aviopuolisoiden-virkistyspaiva-2/
END:VEVENT
BEGIN:VEVENT
DTSTART;TZID=Europe/Helsinki:20260830T160000
DTEND;TZID=Europe/Helsinki:20260830T160000
DTSTAMP:20260420T180728
CREATED:20251201T155539Z
LAST-MODIFIED:20251201T155539Z
UID:3700-1788105600-1788105600@www.porinrauhanyhdistys.fi
SUMMARY:Seurat\, vierailevat puhujat
DESCRIPTION:
URL:https://www.porinrauhanyhdistys.fi/event/seurat-vierailevat-puhujat-8/
END:VEVENT
END:VCALENDAR