BEGIN:VCALENDAR
VERSION:2.0
PRODID:-//Porin Rauhanyhdistys ry - ECPv6.15.20//NONSGML v1.0//EN
CALSCALE:GREGORIAN
METHOD:PUBLISH
X-WR-CALNAME:Porin Rauhanyhdistys ry
X-ORIGINAL-URL:https://www.porinrauhanyhdistys.fi
X-WR-CALDESC:Tapahtumat Porin Rauhanyhdistys ry
REFRESH-INTERVAL;VALUE=DURATION:PT1H
X-Robots-Tag:noindex
X-PUBLISHED-TTL:PT1H
BEGIN:VTIMEZONE
TZID:Europe/Helsinki
BEGIN:DAYLIGHT
TZOFFSETFROM:+0200
TZOFFSETTO:+0300
TZNAME:EEST
DTSTART:20250330T010000
END:DAYLIGHT
BEGIN:STANDARD
TZOFFSETFROM:+0300
TZOFFSETTO:+0200
TZNAME:EET
DTSTART:20251026T010000
END:STANDARD
BEGIN:DAYLIGHT
TZOFFSETFROM:+0200
TZOFFSETTO:+0300
TZNAME:EEST
DTSTART:20260329T010000
END:DAYLIGHT
BEGIN:STANDARD
TZOFFSETFROM:+0300
TZOFFSETTO:+0200
TZNAME:EET
DTSTART:20261025T010000
END:STANDARD
BEGIN:DAYLIGHT
TZOFFSETFROM:+0200
TZOFFSETTO:+0300
TZNAME:EEST
DTSTART:20270328T010000
END:DAYLIGHT
BEGIN:STANDARD
TZOFFSETFROM:+0300
TZOFFSETTO:+0200
TZNAME:EET
DTSTART:20271031T010000
END:STANDARD
END:VTIMEZONE
BEGIN:VEVENT
DTSTART;VALUE=DATE:20260606
DTEND;VALUE=DATE:20260607
DTSTAMP:20260420T142435
CREATED:20250126T195700Z
LAST-MODIFIED:20251201T154815Z
UID:3387-1780704000-1780790399@www.porinrauhanyhdistys.fi
SUMMARY:yksityistilaisuus
DESCRIPTION:
URL:https://www.porinrauhanyhdistys.fi/event/yksityistilaisuus/
END:VEVENT
BEGIN:VEVENT
DTSTART;TZID=Europe/Helsinki:20260607T140000
DTEND;TZID=Europe/Helsinki:20260607T140000
DTSTAMP:20260420T142435
CREATED:20251201T154815Z
LAST-MODIFIED:20251201T154815Z
UID:3667-1780840800-1780840800@www.porinrauhanyhdistys.fi
SUMMARY:Seurat
DESCRIPTION:
URL:https://www.porinrauhanyhdistys.fi/event/seurat-33/
END:VEVENT
BEGIN:VEVENT
DTSTART;TZID=Europe/Helsinki:20260614T160000
DTEND;TZID=Europe/Helsinki:20260614T160000
DTSTAMP:20260420T142435
CREATED:20251201T154815Z
LAST-MODIFIED:20251201T154815Z
UID:3668-1781452800-1781452800@www.porinrauhanyhdistys.fi
SUMMARY:Seurat (myös striimaus)
DESCRIPTION:
URL:https://www.porinrauhanyhdistys.fi/event/seurat-myos-striimaus-7/
END:VEVENT
BEGIN:VEVENT
DTSTART;TZID=Europe/Helsinki:20260620T000000
DTEND;TZID=Europe/Helsinki:20260620T000000
DTSTAMP:20260420T142435
CREATED:20251201T154816Z
LAST-MODIFIED:20251201T154816Z
UID:3669-1781913600-1781913600@www.porinrauhanyhdistys.fi
SUMMARY:juhannusseurat
DESCRIPTION:
URL:https://www.porinrauhanyhdistys.fi/event/juhannusseurat-2/
END:VEVENT
BEGIN:VEVENT
DTSTART;TZID=Europe/Helsinki:20260621T160000
DTEND;TZID=Europe/Helsinki:20260621T160000
DTSTAMP:20260420T142435
CREATED:20251201T154816Z
LAST-MODIFIED:20251201T154816Z
UID:3670-1782057600-1782057600@www.porinrauhanyhdistys.fi
SUMMARY:Seurat
DESCRIPTION:
URL:https://www.porinrauhanyhdistys.fi/event/seurat-34/
END:VEVENT
BEGIN:VEVENT
DTSTART;VALUE=DATE:20260626
DTEND;VALUE=DATE:20260630
DTSTAMP:20260420T142435
CREATED:20251201T155016Z
LAST-MODIFIED:20251201T155257Z
UID:3673-1782432000-1782777599@www.porinrauhanyhdistys.fi
SUMMARY:Suviseurat Kauhavalla 26.-29.6.
DESCRIPTION:
URL:https://www.porinrauhanyhdistys.fi/event/suviseurat-kauhavalla-26-29-6/
END:VEVENT
END:VCALENDAR