BEGIN:VCALENDAR
VERSION:2.0
PRODID:-//Porin Rauhanyhdistys ry - ECPv6.15.20//NONSGML v1.0//EN
CALSCALE:GREGORIAN
METHOD:PUBLISH
X-WR-CALNAME:Porin Rauhanyhdistys ry
X-ORIGINAL-URL:https://www.porinrauhanyhdistys.fi
X-WR-CALDESC:Tapahtumat Porin Rauhanyhdistys ry
REFRESH-INTERVAL;VALUE=DURATION:PT1H
X-Robots-Tag:noindex
X-PUBLISHED-TTL:PT1H
BEGIN:VTIMEZONE
TZID:Europe/Helsinki
BEGIN:DAYLIGHT
TZOFFSETFROM:+0200
TZOFFSETTO:+0300
TZNAME:EEST
DTSTART:20250330T010000
END:DAYLIGHT
BEGIN:STANDARD
TZOFFSETFROM:+0300
TZOFFSETTO:+0200
TZNAME:EET
DTSTART:20251026T010000
END:STANDARD
BEGIN:DAYLIGHT
TZOFFSETFROM:+0200
TZOFFSETTO:+0300
TZNAME:EEST
DTSTART:20260329T010000
END:DAYLIGHT
BEGIN:STANDARD
TZOFFSETFROM:+0300
TZOFFSETTO:+0200
TZNAME:EET
DTSTART:20261025T010000
END:STANDARD
BEGIN:DAYLIGHT
TZOFFSETFROM:+0200
TZOFFSETTO:+0300
TZNAME:EEST
DTSTART:20270328T010000
END:DAYLIGHT
BEGIN:STANDARD
TZOFFSETFROM:+0300
TZOFFSETTO:+0200
TZNAME:EET
DTSTART:20271031T010000
END:STANDARD
END:VTIMEZONE
BEGIN:VEVENT
DTSTART;VALUE=DATE:20260418
DTEND;VALUE=DATE:20260419
DTSTAMP:20260420T163000
CREATED:20260323T143630Z
LAST-MODIFIED:20260323T143653Z
UID:3842-1776470400-1776556799@www.porinrauhanyhdistys.fi
SUMMARY:Yksityistilaisuus
DESCRIPTION:
URL:https://www.porinrauhanyhdistys.fi/event/yksityistilaisuus-6/
END:VEVENT
BEGIN:VEVENT
DTSTART;TZID=Europe/Helsinki:20260418T190000
DTEND;TZID=Europe/Helsinki:20260418T190000
DTSTAMP:20260420T163000
CREATED:20251201T154520Z
LAST-MODIFIED:20251201T154520Z
UID:3637-1776538800-1776538800@www.porinrauhanyhdistys.fi
SUMMARY:Nuorten lauantai
DESCRIPTION:
URL:https://www.porinrauhanyhdistys.fi/event/nuorten-lauantai-24/
END:VEVENT
END:VCALENDAR